BEGIN:VCALENDAR
VERSION:2.0
PRODID:-// MasterStudy LMS plugin //NONSGML v1.0//EN
CALSCALE:GREGORIAN
BEGIN:VEVENT
UID:mslms-1776547970
SUMMARY:RC Scanning
LOCATION:
DESCRIPTION
URL;VALUE=URI:https://wordpress.org/plugins/masterstudy-lms-learning-management-system/
DTSTART:20230806T133000Z
DTEND:20230806T143000Z
DTSTAMP:20260418T213250Z
BEGIN:VALARM
ACTION:DISPLAY
RIGGER;RELATED=START:-PT00H15M00S
BEGIN:VALARM
END:VEVENT
END:VCALENDAR